BEGIN:VCALENDAR
VERSION:2.0
PRODID:-//Plone.org//NONSGML plone.app.event//EN
X-WR-TIMEZONE:Europe/Rome
BEGIN:VEVENT
SUMMARY:Webinar - 9/11: 20 years later. World Order after 9/11
DTSTART;TZID=Europe/Rome;VALUE=DATE-TIME:20211013T150000
DTEND;TZID=Europe/Rome;VALUE=DATE-TIME:20211013T170000
DTSTAMP;VALUE=DATE-TIME:20260419T183316Z
UID:4dff769b96a94ba1a7edeb3aeb14733a@dsps.unibo.it
CREATED;VALUE=DATE-TIME:20210915T130537Z
DESCRIPTION:Seminario organizzato dal Centro Studi sugli Stati Uniti (LAB-
 USA)
LAST-MODIFIED;VALUE=DATE-TIME:20211006T091137Z
URL:https://dsps.unibo.it/it/eventi/world-order-after-9-11
END:VEVENT
BEGIN:VTIMEZONE
TZID:Europe/Rome
X-LIC-LOCATION:Europe/Rome
BEGIN:DAYLIGHT
DTSTART;VALUE=DATE-TIME:20210328T030000
TZNAME:CEST
TZOFFSETFROM:+0100
TZOFFSETTO:+0200
END:DAYLIGHT
END:VTIMEZONE
END:VCALENDAR
