BEGIN:VCALENDAR
VERSION:2.0
PRODID:-//Plone.org//NONSGML plone.app.event//EN
X-WR-TIMEZONE:Europe/Rome
BEGIN:VEVENT
SUMMARY:Workshop: Conceptualising CyberDiplomacy
DTSTART;TZID=Europe/Rome;VALUE=DATE-TIME:20210325T093000
DTEND;TZID=Europe/Rome;VALUE=DATE-TIME:20210325T180000
DTSTAMP;VALUE=DATE-TIME:20260421T185548Z
UID:a1f630a8737b407fb19b336de3f3aeef@dsps.unibo.it
CREATED;VALUE=DATE-TIME:20210317T073910Z
DESCRIPTION:Hosted by the Institute of Security and Global Affairs (ISGA)\
 , Leiden University
LAST-MODIFIED;VALUE=DATE-TIME:20210317T081443Z
URL:https://dsps.unibo.it/it/eventi/workshop
END:VEVENT
BEGIN:VTIMEZONE
TZID:Europe/Rome
X-LIC-LOCATION:Europe/Rome
BEGIN:STANDARD
DTSTART;VALUE=DATE-TIME:20201025T020000
TZNAME:CET
TZOFFSETFROM:+0200
TZOFFSETTO:+0100
END:STANDARD
END:VTIMEZONE
END:VCALENDAR
