BEGIN:VCALENDAR
VERSION:2.0
PRODID:-//Plone.org//NONSGML plone.app.event//EN
X-WR-TIMEZONE:Europe/Rome
BEGIN:VEVENT
SUMMARY: Workshop "(Conoscere) La tua Unione Europea: workshop sulle oppor
 tunità offerte dall'UE " Ravenna edition 
DTSTART;TZID=Europe/Rome;VALUE=DATE-TIME:20191219T100000
DTEND;TZID=Europe/Rome;VALUE=DATE-TIME:20191219T120000
DTSTAMP;VALUE=DATE-TIME:20260421T125626Z
UID:80103df66701460f9ee5a8d1729d7869@dsps.unibo.it
CREATED;VALUE=DATE-TIME:20191213T092124Z
LAST-MODIFIED;VALUE=DATE-TIME:20191213T101032Z
URL:https://dsps.unibo.it/it/eventi/workshop-conoscere-la-tua-unione-europ
 ea-workshop-sulle-opportunita-offerte-dallue-ravenna-edition
END:VEVENT
BEGIN:VTIMEZONE
TZID:Europe/Rome
X-LIC-LOCATION:Europe/Rome
BEGIN:STANDARD
DTSTART;VALUE=DATE-TIME:20191027T020000
TZNAME:CET
TZOFFSETFROM:+0200
TZOFFSETTO:+0100
END:STANDARD
END:VTIMEZONE
END:VCALENDAR
