BEGIN:VCALENDAR
VERSION:2.0
PRODID:-//Plone.org//NONSGML plone.app.event//EN
X-WR-TIMEZONE:Europe/Rome
BEGIN:VEVENT
SUMMARY: Workshop "(Conoscere) La tua Unione Europea: workshop sulle oppor
 tunità offerte dall'UE" Forlì edition 
DTSTART;TZID=Europe/Rome;VALUE=DATE-TIME:20191218T143000
DTEND;TZID=Europe/Rome;VALUE=DATE-TIME:20191218T163000
DTSTAMP;VALUE=DATE-TIME:20260421T180547Z
UID:65fa50dea38a47b79ca72d5974fcb09a@dsps.unibo.it
CREATED;VALUE=DATE-TIME:20191213T091634Z
LAST-MODIFIED;VALUE=DATE-TIME:20191213T092711Z
URL:https://dsps.unibo.it/it/eventi/workshop-conoscere-la-tua-unione-europ
 ea-workshop-sulle-opportunita-offerte-dallue-forli-edition
END:VEVENT
BEGIN:VTIMEZONE
TZID:Europe/Rome
X-LIC-LOCATION:Europe/Rome
BEGIN:STANDARD
DTSTART;VALUE=DATE-TIME:20191027T020000
TZNAME:CET
TZOFFSETFROM:+0200
TZOFFSETTO:+0100
END:STANDARD
END:VTIMEZONE
END:VCALENDAR
