BEGIN:VCALENDAR
VERSION:2.0
PRODID:-//Plone.org//NONSGML plone.app.event//EN
X-WR-TIMEZONE:Europe/Rome
BEGIN:VEVENT
SUMMARY:WORKSHOP: G20 BY HIKMA (IN LINGUA INGLESE)
DTSTART;VALUE=DATE:20210514
DTEND;VALUE=DATE:20210517
DTSTAMP;VALUE=DATE-TIME:20260419T183027Z
UID:ecdf5d926dcb4e48b09e0d8d152b9cca@dsps.unibo.it
CREATED;VALUE=DATE-TIME:20210323T194316Z
DESCRIPTION:Organizzato dall'Associazione Hikma
LAST-MODIFIED;VALUE=DATE-TIME:20210323T194428Z
URL:https://dsps.unibo.it/it/eventi/workshop-1
END:VEVENT
END:VCALENDAR
