BEGIN:VCALENDAR
VERSION:2.0
PRODID:-//Plone.org//NONSGML plone.app.event//EN
X-WR-TIMEZONE:Europe/Rome
BEGIN:VEVENT
SUMMARY:WHISTLEBLOWING IN THE DIGITAL ERA: NEW PRACTICES\, DYNAMICS AND CH
 ALLENGES
DTSTART;TZID=Europe/Rome;VALUE=DATE-TIME:20211014T163000
DTEND;TZID=Europe/Rome;VALUE=DATE-TIME:20211014T180000
DTSTAMP;VALUE=DATE-TIME:20260419T183609Z
UID:7a32e4a5f73e41469a3fea1b35387bcc@dsps.unibo.it
CREATED;VALUE=DATE-TIME:20211006T170005Z
DESCRIPTION:SERIES OF ROUNDTABLES: The relational aspects of the anti-corr
 uption struggle
LAST-MODIFIED;VALUE=DATE-TIME:20211006T170905Z
URL:https://dsps.unibo.it/it/eventi/whistleblowing-in-the-digital-era-new-
 practices-dynamics-and-challenges
END:VEVENT
BEGIN:VTIMEZONE
TZID:Europe/Rome
X-LIC-LOCATION:Europe/Rome
BEGIN:DAYLIGHT
DTSTART;VALUE=DATE-TIME:20210328T030000
TZNAME:CEST
TZOFFSETFROM:+0100
TZOFFSETTO:+0200
END:DAYLIGHT
END:VTIMEZONE
END:VCALENDAR
