BEGIN:VCALENDAR
VERSION:2.0
PRODID:-//Plone.org//NONSGML plone.app.event//EN
X-WR-TIMEZONE:Europe/Rome
BEGIN:VEVENT
SUMMARY:Which women? What agenda? Situating Women\, Peace and Security in 
 North Africa: the case of Tunisia”
DTSTART;TZID=Europe/Rome;VALUE=DATE-TIME:20211214T120000
DTEND;TZID=Europe/Rome;VALUE=DATE-TIME:20211214T130000
DTSTAMP;VALUE=DATE-TIME:20260419T191543Z
UID:294d7bd21d0f48daa091cb89c866cc37@dsps.unibo.it
CREATED;VALUE=DATE-TIME:20211206T160835Z
DESCRIPTION:Post-docs webinar series
LAST-MODIFIED;VALUE=DATE-TIME:20211206T160953Z
URL:https://dsps.unibo.it/it/eventi/which-women-what-agenda-situating-wome
 n-peace-and-security-in-north-africa-the-case-of-tunisia
END:VEVENT
BEGIN:VTIMEZONE
TZID:Europe/Rome
X-LIC-LOCATION:Europe/Rome
BEGIN:STANDARD
DTSTART;VALUE=DATE-TIME:20211031T020000
TZNAME:CET
TZOFFSETFROM:+0200
TZOFFSETTO:+0100
END:STANDARD
END:VTIMEZONE
END:VCALENDAR
