BEGIN:VCALENDAR
VERSION:2.0
PRODID:-//Plone.org//NONSGML plone.app.event//EN
X-WR-TIMEZONE:Europe/Rome
BEGIN:VEVENT
SUMMARY:Western Balkans and the EU: Framing a Space of Common Territorial\
 , Migration and Political Challenges
DTSTART;TZID=Europe/Rome;VALUE=DATE-TIME:20210120T120000
DTEND;TZID=Europe/Rome;VALUE=DATE-TIME:20210120T130000
DTSTAMP;VALUE=DATE-TIME:20260419T190043Z
UID:e02fa774d5154e02b19820f3419f94f3@dsps.unibo.it
CREATED;VALUE=DATE-TIME:20201216T092529Z
DESCRIPTION:Post-docs Webinar Series
LAST-MODIFIED;VALUE=DATE-TIME:20210112T094444Z
URL:https://dsps.unibo.it/it/eventi/western-balkans-and-the-eu-framing-a-s
 pace-of-common-territorial-migration-and-political-challenges
END:VEVENT
BEGIN:VTIMEZONE
TZID:Europe/Rome
X-LIC-LOCATION:Europe/Rome
BEGIN:STANDARD
DTSTART;VALUE=DATE-TIME:20201025T020000
TZNAME:CET
TZOFFSETFROM:+0200
TZOFFSETTO:+0100
END:STANDARD
END:VTIMEZONE
END:VCALENDAR
