BEGIN:VCALENDAR
VERSION:2.0
PRODID:-//Plone.org//NONSGML plone.app.event//EN
X-WR-TIMEZONE:Europe/Rome
BEGIN:VEVENT
SUMMARY:WEBINAR: Defining and Analyzing Intra-Party Democracy
DTSTART;TZID=Europe/Rome;VALUE=DATE-TIME:20210317T120000
DTEND;TZID=Europe/Rome;VALUE=DATE-TIME:20210317T130000
DTSTAMP;VALUE=DATE-TIME:20260419T215040Z
UID:d6bf081a32ec475db7bcb78fe6531895@dsps.unibo.it
CREATED;VALUE=DATE-TIME:20210315T070314Z
DESCRIPTION:Post-docs webinar series
LAST-MODIFIED;VALUE=DATE-TIME:20210315T070855Z
URL:https://dsps.unibo.it/it/eventi/webinar
END:VEVENT
BEGIN:VTIMEZONE
TZID:Europe/Rome
X-LIC-LOCATION:Europe/Rome
BEGIN:STANDARD
DTSTART;VALUE=DATE-TIME:20201025T020000
TZNAME:CET
TZOFFSETFROM:+0200
TZOFFSETTO:+0100
END:STANDARD
END:VTIMEZONE
END:VCALENDAR
