BEGIN:VCALENDAR
VERSION:2.0
PRODID:-//Plone.org//NONSGML plone.app.event//EN
X-WR-TIMEZONE:Europe/Rome
BEGIN:VEVENT
SUMMARY:Webinar: The Basis for Peace in Palestine/Israel
DTSTART;TZID=Europe/Rome;VALUE=DATE-TIME:20210311T170000
DTEND;TZID=Europe/Rome;VALUE=DATE-TIME:20210311T190000
DTSTAMP;VALUE=DATE-TIME:20260419T215516Z
UID:5f43d79310724ff4821ff6eb3a8b8c50@dsps.unibo.it
CREATED;VALUE=DATE-TIME:20210225T142406Z
DESCRIPTION:Primo seminario delle Giornate dell’Eccellenza.
LAST-MODIFIED;VALUE=DATE-TIME:20210302T183046Z
URL:https://dsps.unibo.it/it/eventi/webinar-the-basis-for-peace-in-palesti
 ne-israel
END:VEVENT
BEGIN:VTIMEZONE
TZID:Europe/Rome
X-LIC-LOCATION:Europe/Rome
BEGIN:STANDARD
DTSTART;VALUE=DATE-TIME:20201025T020000
TZNAME:CET
TZOFFSETFROM:+0200
TZOFFSETTO:+0100
END:STANDARD
END:VTIMEZONE
END:VCALENDAR
