BEGIN:VCALENDAR
VERSION:2.0
PRODID:-//Plone.org//NONSGML plone.app.event//EN
X-WR-TIMEZONE:Europe/Rome
BEGIN:VEVENT
SUMMARY:Webinar: Massimo Toschi -  L’Agenzia dell’Unione Europea per i
  diritti fondamentali: un modello innovativo di cooperazione con la societ
 à civile
DTSTART;TZID=Europe/Rome;VALUE=DATE-TIME:20210326T110000
DTEND;TZID=Europe/Rome;VALUE=DATE-TIME:20210326T130000
DTSTAMP;VALUE=DATE-TIME:20260421T155345Z
UID:3f1bd5a5820d4cab99bb0be0841c84b9@dsps.unibo.it
CREATED;VALUE=DATE-TIME:20210312T163406Z
DESCRIPTION:Webinars delle Giornate dell'Eccellenza SPS
LAST-MODIFIED;VALUE=DATE-TIME:20210323T105317Z
URL:https://dsps.unibo.it/it/eventi/webinar-l-agenzia-dell-unione-europea-
 per-i-diritti-fondamentali-un-modello-innovativo-di-cooperazione-con-la-so
 cieta-civile
END:VEVENT
BEGIN:VTIMEZONE
TZID:Europe/Rome
X-LIC-LOCATION:Europe/Rome
BEGIN:STANDARD
DTSTART;VALUE=DATE-TIME:20201025T020000
TZNAME:CET
TZOFFSETFROM:+0200
TZOFFSETTO:+0100
END:STANDARD
END:VTIMEZONE
END:VCALENDAR
