BEGIN:VCALENDAR
VERSION:2.0
PRODID:-//Plone.org//NONSGML plone.app.event//EN
X-WR-TIMEZONE:Europe/Rome
BEGIN:VEVENT
SUMMARY:Verso La Conferenza Sul Futuro Dell’Europa. Un Nuovo Slancio Per
  La Democrazia Europea
DTSTART;TZID=Europe/Rome;VALUE=DATE-TIME:20210129T180000
DTEND;TZID=Europe/Rome;VALUE=DATE-TIME:20210129T200000
DTSTAMP;VALUE=DATE-TIME:20260419T190208Z
UID:9fa56ec57f274484aa42a32b822d53f5@dsps.unibo.it
CREATED;VALUE=DATE-TIME:20210121T150616Z
DESCRIPTION:evento online su Facebook e Youtube
LAST-MODIFIED;VALUE=DATE-TIME:20210122T080957Z
URL:https://dsps.unibo.it/it/eventi/verso-la-conferenza-sul-futuro-dell201
 9europa-un-nuovo-slancio-per-la-democrazia-europea
END:VEVENT
BEGIN:VTIMEZONE
TZID:Europe/Rome
X-LIC-LOCATION:Europe/Rome
BEGIN:STANDARD
DTSTART;VALUE=DATE-TIME:20201025T020000
TZNAME:CET
TZOFFSETFROM:+0200
TZOFFSETTO:+0100
END:STANDARD
END:VTIMEZONE
END:VCALENDAR
