BEGIN:VCALENDAR
VERSION:2.0
PRODID:-//Plone.org//NONSGML plone.app.event//EN
X-WR-TIMEZONE:Europe/Rome
BEGIN:VEVENT
SUMMARY:Unibo Master Students discuss EU Foreign Policy
DTSTART;TZID=Europe/Rome;VALUE=DATE-TIME:20210427T110000
DTEND;TZID=Europe/Rome;VALUE=DATE-TIME:20210427T130000
DTSTAMP;VALUE=DATE-TIME:20260419T202213Z
UID:a9643880fb0a4982b1e8309affe93d6f@dsps.unibo.it
CREATED;VALUE=DATE-TIME:20210422T090550Z
LAST-MODIFIED;VALUE=DATE-TIME:20210422T090551Z
URL:https://dsps.unibo.it/it/eventi/unibo-master-students-discuss-eu-forei
 gn-policy
END:VEVENT
BEGIN:VTIMEZONE
TZID:Europe/Rome
X-LIC-LOCATION:Europe/Rome
BEGIN:DAYLIGHT
DTSTART;VALUE=DATE-TIME:20210328T030000
TZNAME:CEST
TZOFFSETFROM:+0100
TZOFFSETTO:+0200
END:DAYLIGHT
END:VTIMEZONE
END:VCALENDAR
