BEGIN:VCALENDAR
VERSION:2.0
PRODID:-//Plone.org//NONSGML plone.app.event//EN
X-WR-TIMEZONE:Europe/Rome
BEGIN:VEVENT
SUMMARY:Un mondo di bolle? La democrazia alla fine del pubblico
DTSTART;TZID=Europe/Rome;VALUE=DATE-TIME:20210504T150000
DTEND;TZID=Europe/Rome;VALUE=DATE-TIME:20210504T170000
DTSTAMP;VALUE=DATE-TIME:20260419T201029Z
UID:f1a3dcfa1b0a4ff9a9adcbd99b965dd9@dsps.unibo.it
CREATED;VALUE=DATE-TIME:20210412T090538Z
DESCRIPTION:Convegno nell'ambito dell'insegnamento di "Teoria e storia del
 l’opinione pubblica"\, Corso di Laurea Magistrale Mass Media e Politica
LAST-MODIFIED;VALUE=DATE-TIME:20210412T093628Z
URL:https://dsps.unibo.it/it/eventi/un-mondo-di-bolle
END:VEVENT
BEGIN:VTIMEZONE
TZID:Europe/Rome
X-LIC-LOCATION:Europe/Rome
BEGIN:DAYLIGHT
DTSTART;VALUE=DATE-TIME:20210328T030000
TZNAME:CEST
TZOFFSETFROM:+0100
TZOFFSETTO:+0200
END:DAYLIGHT
END:VTIMEZONE
END:VCALENDAR
