BEGIN:VCALENDAR
VERSION:2.0
PRODID:-//Plone.org//NONSGML plone.app.event//EN
X-WR-TIMEZONE:Europe/Rome
BEGIN:VEVENT
SUMMARY:Un caffè a Palazzo Hercolani: ti racconto il mio Erasmus
DTSTART;TZID=Europe/Rome;VALUE=DATE-TIME:20250123T150000
DTEND;TZID=Europe/Rome;VALUE=DATE-TIME:20250123T173000
DTSTAMP;VALUE=DATE-TIME:20260420T200812Z
UID:2ae88c7dc95d47d1bd4debbdc3f3efbb@dsps.unibo.it
CREATED;VALUE=DATE-TIME:20250116T171301Z
LAST-MODIFIED;VALUE=DATE-TIME:20250116T171302Z
URL:https://dsps.unibo.it/it/eventi/un-caffe-a-palazzo-hercolani-ti-raccon
 to-il-mio-erasmus
END:VEVENT
BEGIN:VTIMEZONE
TZID:Europe/Rome
X-LIC-LOCATION:Europe/Rome
BEGIN:STANDARD
DTSTART;VALUE=DATE-TIME:20241027T020000
TZNAME:CET
TZOFFSETFROM:+0200
TZOFFSETTO:+0100
END:STANDARD
END:VTIMEZONE
END:VCALENDAR
