BEGIN:VCALENDAR
VERSION:2.0
PRODID:-//Plone.org//NONSGML plone.app.event//EN
X-WR-TIMEZONE:Europe/Rome
BEGIN:VEVENT
SUMMARY:UGUAGLIANZA E PANDEMIA
DTSTART;TZID=Europe/Rome;VALUE=DATE-TIME:20210503T110000
DTEND;TZID=Europe/Rome;VALUE=DATE-TIME:20210503T150000
DTSTAMP;VALUE=DATE-TIME:20260419T215516Z
UID:331fc3ed0a9945e284040daffcfe85e9@dsps.unibo.it
CREATED;VALUE=DATE-TIME:20210427T135609Z
DESCRIPTION:Laboratorio interattivo
LAST-MODIFIED;VALUE=DATE-TIME:20210427T140127Z
URL:https://dsps.unibo.it/it/eventi/uguaglianza-e-pandemia-laboratorio-int
 erattivo
END:VEVENT
BEGIN:VTIMEZONE
TZID:Europe/Rome
X-LIC-LOCATION:Europe/Rome
BEGIN:DAYLIGHT
DTSTART;VALUE=DATE-TIME:20210328T030000
TZNAME:CEST
TZOFFSETFROM:+0100
TZOFFSETTO:+0200
END:DAYLIGHT
END:VTIMEZONE
END:VCALENDAR
