BEGIN:VCALENDAR
VERSION:2.0
PRODID:-//Plone.org//NONSGML plone.app.event//EN
X-WR-TIMEZONE:Europe/Rome
BEGIN:VEVENT
SUMMARY:Turkey in Africa
DTSTART;TZID=Europe/Rome;VALUE=DATE-TIME:20210429T170000
DTEND;TZID=Europe/Rome;VALUE=DATE-TIME:20210429T190000
DTSTAMP;VALUE=DATE-TIME:20260419T202125Z
UID:e7d514b1f8a94ae0949c716ed64d85cf@dsps.unibo.it
CREATED;VALUE=DATE-TIME:20210415T104558Z
DESCRIPTION:Turkey's Strategic Involvement in Sub-Saharan Africa
LAST-MODIFIED;VALUE=DATE-TIME:20210415T155506Z
URL:https://dsps.unibo.it/it/eventi/turkey-in-africa-turkeys-strategic-inv
 olvement-in-sub-saharan-africa
END:VEVENT
BEGIN:VTIMEZONE
TZID:Europe/Rome
X-LIC-LOCATION:Europe/Rome
BEGIN:DAYLIGHT
DTSTART;VALUE=DATE-TIME:20210328T030000
TZNAME:CEST
TZOFFSETFROM:+0100
TZOFFSETTO:+0200
END:DAYLIGHT
END:VTIMEZONE
END:VCALENDAR
