BEGIN:VCALENDAR
VERSION:2.0
PRODID:-//Plone.org//NONSGML plone.app.event//EN
X-WR-TIMEZONE:Europe/Rome
BEGIN:VEVENT
SUMMARY:GUEST LECTURE: Tips for academic papers and presentations: how to 
 identify the topic\, organize the work and use reliable sources
DTSTART;TZID=Europe/Rome;VALUE=DATE-TIME:20210401T130000
DTEND;TZID=Europe/Rome;VALUE=DATE-TIME:20210401T150000
DTSTAMP;VALUE=DATE-TIME:20260421T173934Z
UID:3e49fb9a2ea94eb0a5c097fcaa4428dd@dsps.unibo.it
CREATED;VALUE=DATE-TIME:20210301T131918Z
DESCRIPTION:Guest lecture by Prof. Matteo Dian (University of Bologna)
LAST-MODIFIED;VALUE=DATE-TIME:20210301T132635Z
URL:https://dsps.unibo.it/it/eventi/tips-for-academic-papers-and-presentat
 ions-how-to-identify-the-topic-organize-the-work-and-use-reliable-sources
END:VEVENT
BEGIN:VTIMEZONE
TZID:Europe/Rome
X-LIC-LOCATION:Europe/Rome
BEGIN:DAYLIGHT
DTSTART;VALUE=DATE-TIME:20210328T030000
TZNAME:CEST
TZOFFSETFROM:+0100
TZOFFSETTO:+0200
END:DAYLIGHT
END:VTIMEZONE
END:VCALENDAR
