BEGIN:VCALENDAR
VERSION:2.0
PRODID:-//Plone.org//NONSGML plone.app.event//EN
X-WR-TIMEZONE:Europe/Rome
BEGIN:VEVENT
SUMMARY:Webinar - 9/11: 20 years later - The United States and the conflic
 tual legacy of 9/11
DTSTART;TZID=Europe/Rome;VALUE=DATE-TIME:20211005T170000
DTEND;TZID=Europe/Rome;VALUE=DATE-TIME:20211005T190000
DTSTAMP;VALUE=DATE-TIME:20260419T190136Z
UID:ccdf0d85d0844db38881cc5112eaaa12@dsps.unibo.it
CREATED;VALUE=DATE-TIME:20210915T130302Z
DESCRIPTION:Seminario organizzato dal Centro di Studi sugli Stati Uniti (L
 AB-USA)
LAST-MODIFIED;VALUE=DATE-TIME:20211006T090540Z
URL:https://dsps.unibo.it/it/eventi/the-united-states-and-the-conflictual-
 legacy-of-9-11
END:VEVENT
BEGIN:VTIMEZONE
TZID:Europe/Rome
X-LIC-LOCATION:Europe/Rome
BEGIN:DAYLIGHT
DTSTART;VALUE=DATE-TIME:20210328T030000
TZNAME:CEST
TZOFFSETFROM:+0100
TZOFFSETTO:+0200
END:DAYLIGHT
END:VTIMEZONE
END:VCALENDAR
