BEGIN:VCALENDAR
VERSION:2.0
PRODID:-//Plone.org//NONSGML plone.app.event//EN
X-WR-TIMEZONE:Europe/Rome
BEGIN:VEVENT
SUMMARY:The UN Secretary-General’s Our Common Agenda Report: Multidiscip
 linary Perspectives
DTSTART;TZID=Europe/Rome;VALUE=DATE-TIME:20211208T124500
DTEND;TZID=Europe/Rome;VALUE=DATE-TIME:20211208T173000
DTSTAMP;VALUE=DATE-TIME:20260419T190013Z
UID:772ac354770d416498f029fb1c2c7dd1@dsps.unibo.it
CREATED;VALUE=DATE-TIME:20211206T134359Z
DESCRIPTION:The seminar is organized by the Una Europa Global Governance R
 esearch Group\, within the “Dialogues between policymakers and Academia
 ” seed funded project
LAST-MODIFIED;VALUE=DATE-TIME:20211207T143727Z
URL:https://dsps.unibo.it/it/eventi/the-un-secretary-general-s-our-common-
 agenda-report-multidisciplinary-perspectives
END:VEVENT
BEGIN:VTIMEZONE
TZID:Europe/Rome
X-LIC-LOCATION:Europe/Rome
BEGIN:STANDARD
DTSTART;VALUE=DATE-TIME:20211031T020000
TZNAME:CET
TZOFFSETFROM:+0200
TZOFFSETTO:+0100
END:STANDARD
END:VTIMEZONE
END:VCALENDAR
