BEGIN:VCALENDAR
VERSION:2.0
PRODID:-//Plone.org//NONSGML plone.app.event//EN
X-WR-TIMEZONE:Europe/Rome
BEGIN:VEVENT
SUMMARY:The Tragedy of Ukraine: What Classical Greek Tragedy Teaches About
  Conflict Resolution
DTSTART;TZID=Europe/Rome;VALUE=DATE-TIME:20210413T173000
DTEND;TZID=Europe/Rome;VALUE=DATE-TIME:20210413T190000
DTSTAMP;VALUE=DATE-TIME:20260421T155253Z
UID:f2c2cfe54db34e899a6e9e921b9a692d@dsps.unibo.it
CREATED;VALUE=DATE-TIME:20210202T140558Z
LAST-MODIFIED;VALUE=DATE-TIME:20210202T140559Z
URL:https://dsps.unibo.it/it/eventi/the-tragedy-of-ukraine-what-classical-
 greek-tragedy-teaches-about-conflict-resolution
END:VEVENT
BEGIN:VTIMEZONE
TZID:Europe/Rome
X-LIC-LOCATION:Europe/Rome
BEGIN:DAYLIGHT
DTSTART;VALUE=DATE-TIME:20210328T030000
TZNAME:CEST
TZOFFSETFROM:+0100
TZOFFSETTO:+0200
END:DAYLIGHT
END:VTIMEZONE
END:VCALENDAR
