BEGIN:VCALENDAR
VERSION:2.0
PRODID:-//Plone.org//NONSGML plone.app.event//EN
X-WR-TIMEZONE:Europe/Rome
BEGIN:VEVENT
SUMMARY:The State and the Street: street-level organizations and how they 
 matter”
DTSTART;TZID=Europe/Rome;VALUE=DATE-TIME:20210427T160000
DTEND;TZID=Europe/Rome;VALUE=DATE-TIME:20210427T180000
DTSTAMP;VALUE=DATE-TIME:20260419T221010Z
UID:a153f1abc10142c58251900bb53613bf@dsps.unibo.it
CREATED;VALUE=DATE-TIME:20210416T135032Z
DESCRIPTION:Webinar all'interno del ciclo "Politics and Social Policy”
LAST-MODIFIED;VALUE=DATE-TIME:20210416T135430Z
URL:https://dsps.unibo.it/it/eventi/the-state-and-the-street-street-level-
 organizations-and-how-they-matter
END:VEVENT
BEGIN:VTIMEZONE
TZID:Europe/Rome
X-LIC-LOCATION:Europe/Rome
BEGIN:DAYLIGHT
DTSTART;VALUE=DATE-TIME:20210328T030000
TZNAME:CEST
TZOFFSETFROM:+0100
TZOFFSETTO:+0200
END:DAYLIGHT
END:VTIMEZONE
END:VCALENDAR
