BEGIN:VCALENDAR
VERSION:2.0
PRODID:-//Plone.org//NONSGML plone.app.event//EN
X-WR-TIMEZONE:Europe/Rome
BEGIN:VEVENT
SUMMARY:THE ROLE OF TECHNOLOGY IN ACTIVISM AND COUNTER-ACTIVISM
DTSTART;TZID=Europe/Rome;VALUE=DATE-TIME:20211118T163000
DTEND;TZID=Europe/Rome;VALUE=DATE-TIME:20211118T180000
DTSTAMP;VALUE=DATE-TIME:20260419T223242Z
UID:2146cec6273b4d5ba77c79ab55975786@dsps.unibo.it
CREATED;VALUE=DATE-TIME:20211006T171200Z
DESCRIPTION:SERIES OF ROUNDTABLES: The Relational Aspects of the Anti-corr
 uption Struggle
LAST-MODIFIED;VALUE=DATE-TIME:20211006T171452Z
URL:https://dsps.unibo.it/it/eventi/the-role-of-technology-in-activism-and
 -counter-activism
END:VEVENT
BEGIN:VTIMEZONE
TZID:Europe/Rome
X-LIC-LOCATION:Europe/Rome
BEGIN:STANDARD
DTSTART;VALUE=DATE-TIME:20211031T020000
TZNAME:CET
TZOFFSETFROM:+0200
TZOFFSETTO:+0100
END:STANDARD
END:VTIMEZONE
END:VCALENDAR
