BEGIN:VCALENDAR
VERSION:2.0
PRODID:-//Plone.org//NONSGML plone.app.event//EN
X-WR-TIMEZONE:Europe/Rome
BEGIN:VEVENT
SUMMARY:The Palestinian Left and Its Decline: Loyal Opposition
DTSTART;TZID=Europe/Rome;VALUE=DATE-TIME:20211012T180000
DTEND;TZID=Europe/Rome;VALUE=DATE-TIME:20211012T200000
DTSTAMP;VALUE=DATE-TIME:20260419T201654Z
UID:5d3630401448452b9878f123d3111ebb@dsps.unibo.it
CREATED;VALUE=DATE-TIME:20210915T132726Z
LAST-MODIFIED;VALUE=DATE-TIME:20210923T092526Z
URL:https://dsps.unibo.it/it/eventi/the-palestinian-left-and-its-decline-l
 oyal-opposition
END:VEVENT
BEGIN:VTIMEZONE
TZID:Europe/Rome
X-LIC-LOCATION:Europe/Rome
BEGIN:DAYLIGHT
DTSTART;VALUE=DATE-TIME:20210328T030000
TZNAME:CEST
TZOFFSETFROM:+0100
TZOFFSETTO:+0200
END:DAYLIGHT
END:VTIMEZONE
END:VCALENDAR
