BEGIN:VCALENDAR
VERSION:2.0
PRODID:-//Plone.org//NONSGML plone.app.event//EN
X-WR-TIMEZONE:Europe/Rome
BEGIN:VEVENT
SUMMARY:The need to move from migration containment to migration managemen
 t
DTSTART;TZID=Europe/Rome;VALUE=DATE-TIME:20210512T170000
DTEND;TZID=Europe/Rome;VALUE=DATE-TIME:20210512T190000
DTSTAMP;VALUE=DATE-TIME:20260419T201529Z
UID:583d729f801b4e0893e2b37499442df8@dsps.unibo.it
CREATED;VALUE=DATE-TIME:20210325T135256Z
DESCRIPTION:Irene Pasini and Claudia Natali (International Organization fo
 r Migration\, Libya Office)\nDiscussant: Michela Ceccorulli (University of
  Bologna) and Marco Zoppi (University of Bologna)
LAST-MODIFIED;VALUE=DATE-TIME:20210407T072829Z
URL:https://dsps.unibo.it/it/eventi/the-need-to-move-from-migration-contai
 nment-to-migration-management
END:VEVENT
BEGIN:VTIMEZONE
TZID:Europe/Rome
X-LIC-LOCATION:Europe/Rome
BEGIN:DAYLIGHT
DTSTART;VALUE=DATE-TIME:20210328T030000
TZNAME:CEST
TZOFFSETFROM:+0100
TZOFFSETTO:+0200
END:DAYLIGHT
END:VTIMEZONE
END:VCALENDAR
