BEGIN:VCALENDAR
VERSION:2.0
PRODID:-//Plone.org//NONSGML plone.app.event//EN
X-WR-TIMEZONE:Europe/Rome
BEGIN:VEVENT
SUMMARY:The Global Fight against LGBTI Rights
DTSTART;TZID=Europe/Rome;VALUE=DATE-TIME:20251014T110000
DTEND;TZID=Europe/Rome;VALUE=DATE-TIME:20251014T130000
DTSTAMP;VALUE=DATE-TIME:20260422T122058Z
UID:fde3e7db7fa948919dbcb7ffe48a9522@dsps.unibo.it
CREATED;VALUE=DATE-TIME:20251008T091100Z
DESCRIPTION:Prof. Kristina Stoeckl\, University LUISS\, Rome
LAST-MODIFIED;VALUE=DATE-TIME:20251008T091133Z
URL:https://dsps.unibo.it/it/eventi/the-global-fight-against-lgbti-rights-
 1
END:VEVENT
BEGIN:VTIMEZONE
TZID:Europe/Rome
X-LIC-LOCATION:Europe/Rome
BEGIN:DAYLIGHT
DTSTART;VALUE=DATE-TIME:20250330T030000
TZNAME:CEST
TZOFFSETFROM:+0100
TZOFFSETTO:+0200
END:DAYLIGHT
END:VTIMEZONE
END:VCALENDAR
