BEGIN:VCALENDAR
VERSION:2.0
PRODID:-//Plone.org//NONSGML plone.app.event//EN
X-WR-TIMEZONE:Europe/Rome
BEGIN:VEVENT
SUMMARY:The Future of Insurance
DTSTART;VALUE=DATE:20211118
DTEND;VALUE=DATE:20211120
DTSTAMP;VALUE=DATE-TIME:20260421T141244Z
UID:0b6d976957ef46c7bcec76f59c104f72@dsps.unibo.it
CREATED;VALUE=DATE-TIME:20211029T133004Z
DESCRIPTION:How Does Algorithmic Prediction Affect Insurance Practices?
LAST-MODIFIED;VALUE=DATE-TIME:20211115T174247Z
URL:https://dsps.unibo.it/it/eventi/the-future-of-insurance
END:VEVENT
END:VCALENDAR
