BEGIN:VCALENDAR
VERSION:2.0
PRODID:-//Plone.org//NONSGML plone.app.event//EN
X-WR-TIMEZONE:Europe/Rome
BEGIN:VEVENT
SUMMARY:The EU's Strategic Autonomy and Trade Policy
DTSTART;TZID=Europe/Rome;VALUE=DATE-TIME:20210510T150000
DTEND;TZID=Europe/Rome;VALUE=DATE-TIME:20210510T170000
DTSTAMP;VALUE=DATE-TIME:20260421T142146Z
UID:791b2907ddf4464c97f79fb8de5a25e6@dsps.unibo.it
CREATED;VALUE=DATE-TIME:20210415T155848Z
DESCRIPTION:Guest lecture in the context of the course of International Re
 lations
LAST-MODIFIED;VALUE=DATE-TIME:20210415T160257Z
URL:https://dsps.unibo.it/it/eventi/the-eu-s-strategic-autonomy-and-trade-
 policy
END:VEVENT
BEGIN:VTIMEZONE
TZID:Europe/Rome
X-LIC-LOCATION:Europe/Rome
BEGIN:DAYLIGHT
DTSTART;VALUE=DATE-TIME:20210328T030000
TZNAME:CEST
TZOFFSETFROM:+0100
TZOFFSETTO:+0200
END:DAYLIGHT
END:VTIMEZONE
END:VCALENDAR
