BEGIN:VCALENDAR
VERSION:2.0
PRODID:-//Plone.org//NONSGML plone.app.event//EN
X-WR-TIMEZONE:Europe/Rome
BEGIN:VEVENT
SUMMARY:The EU as a Cyber Security Actor in a Pandemic World
DTSTART;TZID=Europe/Rome;VALUE=DATE-TIME:20210511T110000
DTEND;TZID=Europe/Rome;VALUE=DATE-TIME:20210511T130000
DTSTAMP;VALUE=DATE-TIME:20260423T150755Z
UID:804506df85824b3e8029f52bb4cbf2c1@dsps.unibo.it
CREATED;VALUE=DATE-TIME:20210325T101813Z
DESCRIPTION:Prof. George Christou (Warwick University) - in the context of
  the Course of Pan-European Security
LAST-MODIFIED;VALUE=DATE-TIME:20210325T102040Z
URL:https://dsps.unibo.it/it/eventi/the-eu-as-a-cyber-security-actor-in-a-
 pandemic-world
END:VEVENT
BEGIN:VTIMEZONE
TZID:Europe/Rome
X-LIC-LOCATION:Europe/Rome
BEGIN:DAYLIGHT
DTSTART;VALUE=DATE-TIME:20210328T030000
TZNAME:CEST
TZOFFSETFROM:+0100
TZOFFSETTO:+0200
END:DAYLIGHT
END:VTIMEZONE
END:VCALENDAR
