BEGIN:VCALENDAR
VERSION:2.0
PRODID:-//Plone.org//NONSGML plone.app.event//EN
X-WR-TIMEZONE:Europe/Rome
BEGIN:VEVENT
SUMMARY:The End of Yugoslavia and the Soviet Union at its 30th Anniversary
 : Trajectories\, Projections and Legacies
DTSTART;TZID=Europe/Rome;VALUE=DATE-TIME:20211216T100000
DTEND;TZID=Europe/Rome;VALUE=DATE-TIME:20211217T130000
DTSTAMP;VALUE=DATE-TIME:20260419T203120Z
UID:3d63abe7cb694dd9a4c2ee7d146351a3@dsps.unibo.it
CREATED;VALUE=DATE-TIME:20211202T122216Z
DESCRIPTION:International Conference
LAST-MODIFIED;VALUE=DATE-TIME:20211203T103600Z
URL:https://dsps.unibo.it/it/eventi/the-end-of-yugoslavia-and-the-soviet-u
 nion-at-its-30th-anniversary-trajectories-projections-and-legacies
END:VEVENT
BEGIN:VTIMEZONE
TZID:Europe/Rome
X-LIC-LOCATION:Europe/Rome
BEGIN:STANDARD
DTSTART;VALUE=DATE-TIME:20211031T020000
TZNAME:CET
TZOFFSETFROM:+0200
TZOFFSETTO:+0100
END:STANDARD
END:VTIMEZONE
END:VCALENDAR
