BEGIN:VCALENDAR
VERSION:2.0
PRODID:-//Plone.org//NONSGML plone.app.event//EN
X-WR-TIMEZONE:Europe/Rome
BEGIN:VEVENT
SUMMARY:The downing of MH17
DTSTART;TZID=Europe/Rome;VALUE=DATE-TIME:20211213T110000
DTEND;TZID=Europe/Rome;VALUE=DATE-TIME:20211213T130000
DTSTAMP;VALUE=DATE-TIME:20260421T123854Z
UID:15de1208ba2948a1a58f51550593d5cb@dsps.unibo.it
CREATED;VALUE=DATE-TIME:20211116T142347Z
DESCRIPTION:Visiting Professor Marko Milanovic\, University of Nottingham 
 (UK) - PIL Talk @ Forlì
LAST-MODIFIED;VALUE=DATE-TIME:20211124T102313Z
URL:https://dsps.unibo.it/it/eventi/the-downing-of-mh17
END:VEVENT
BEGIN:VTIMEZONE
TZID:Europe/Rome
X-LIC-LOCATION:Europe/Rome
BEGIN:STANDARD
DTSTART;VALUE=DATE-TIME:20211031T020000
TZNAME:CET
TZOFFSETFROM:+0200
TZOFFSETTO:+0100
END:STANDARD
END:VTIMEZONE
END:VCALENDAR
