BEGIN:VCALENDAR
VERSION:2.0
PRODID:-//Plone.org//NONSGML plone.app.event//EN
X-WR-TIMEZONE:Europe/Rome
BEGIN:VEVENT
SUMMARY:The Decolonization of the Congo: a regional perspective
DTSTART;TZID=Europe/Rome;VALUE=DATE-TIME:20160401T150000
DTEND;TZID=Europe/Rome;VALUE=DATE-TIME:20160401T170000
DTSTAMP;VALUE=DATE-TIME:20260421T123815Z
UID:bbdd2e7174fb49c9947858054a6ca488@dsps.unibo.it
CREATED;VALUE=DATE-TIME:20160315T103850Z
LAST-MODIFIED;VALUE=DATE-TIME:20160315T113959Z
URL:https://dsps.unibo.it/it/eventi/the-decolonization-of-the-congo-a-regi
 onal-perspective
END:VEVENT
BEGIN:VTIMEZONE
TZID:Europe/Rome
X-LIC-LOCATION:Europe/Rome
BEGIN:DAYLIGHT
DTSTART;VALUE=DATE-TIME:20160327T030000
TZNAME:CEST
TZOFFSETFROM:+0100
TZOFFSETTO:+0200
END:DAYLIGHT
END:VTIMEZONE
END:VCALENDAR
