BEGIN:VCALENDAR
VERSION:2.0
PRODID:-//Plone.org//NONSGML plone.app.event//EN
X-WR-TIMEZONE:Europe/Rome
BEGIN:VEVENT
SUMMARY:The Cyprus Problem: Origins\, Evolution and Prospects. A Macroscop
 ic Analysis
DTSTART;TZID=Europe/Rome;VALUE=DATE-TIME:20211103T110000
DTEND;TZID=Europe/Rome;VALUE=DATE-TIME:20211103T130000
DTSTAMP;VALUE=DATE-TIME:20260419T201431Z
UID:49fc912879b844fb9b3a9bc9eaac89ca@dsps.unibo.it
CREATED;VALUE=DATE-TIME:20211102T092856Z
DESCRIPTION:Nicos Panayiotides\, Panteion University
LAST-MODIFIED;VALUE=DATE-TIME:20211102T092923Z
URL:https://dsps.unibo.it/it/eventi/the-cyprus-problem-origins-evolution-a
 nd-prospects-a-macroscopic-analysis
END:VEVENT
BEGIN:VTIMEZONE
TZID:Europe/Rome
X-LIC-LOCATION:Europe/Rome
BEGIN:STANDARD
DTSTART;VALUE=DATE-TIME:20211031T020000
TZNAME:CET
TZOFFSETFROM:+0200
TZOFFSETTO:+0100
END:STANDARD
END:VTIMEZONE
END:VCALENDAR
