BEGIN:VCALENDAR
VERSION:2.0
PRODID:-//Plone.org//NONSGML plone.app.event//EN
X-WR-TIMEZONE:Europe/Rome
BEGIN:VEVENT
SUMMARY:The Covid pandemic enters the ballot box. The impact of conspiracy
  theories on the Italians’ voting behaviour during the COVID-19 crisis
DTSTART;TZID=Europe/Rome;VALUE=DATE-TIME:20211126T140000
DTEND;TZID=Europe/Rome;VALUE=DATE-TIME:20211126T150000
DTSTAMP;VALUE=DATE-TIME:20260419T190208Z
UID:a35bcf283ca441679f6b8b3d2f1a6698@dsps.unibo.it
CREATED;VALUE=DATE-TIME:20211119T111426Z
DESCRIPTION:Post-docs webinar series
LAST-MODIFIED;VALUE=DATE-TIME:20211119T111611Z
URL:https://dsps.unibo.it/it/eventi/the-covid-pandemic-enters-the-ballot-b
 ox-the-impact-of-conspiracy-theories-on-the-italians-voting-behaviour-duri
 ng-the-covid-19-crisis
END:VEVENT
BEGIN:VTIMEZONE
TZID:Europe/Rome
X-LIC-LOCATION:Europe/Rome
BEGIN:STANDARD
DTSTART;VALUE=DATE-TIME:20211031T020000
TZNAME:CET
TZOFFSETFROM:+0200
TZOFFSETTO:+0100
END:STANDARD
END:VTIMEZONE
END:VCALENDAR
