BEGIN:VCALENDAR
VERSION:2.0
PRODID:-//Plone.org//NONSGML plone.app.event//EN
X-WR-TIMEZONE:Europe/Rome
BEGIN:VEVENT
SUMMARY:The COVID-19 Pandemic: A Fatal Blown to Multilateralism?
DTSTART;TZID=Europe/Rome;VALUE=DATE-TIME:20201104T170000
DTEND;TZID=Europe/Rome;VALUE=DATE-TIME:20201104T190000
DTSTAMP;VALUE=DATE-TIME:20260419T191500Z
UID:130bc62e92c9427c905a944678fe733d@dsps.unibo.it
CREATED;VALUE=DATE-TIME:20201006T064655Z
DESCRIPTION:Online Round Table
LAST-MODIFIED;VALUE=DATE-TIME:20201027T103357Z
URL:https://dsps.unibo.it/it/eventi/the-covid-19-pandemic-a-fatal-blown-to
 -multilateralism
END:VEVENT
BEGIN:VTIMEZONE
TZID:Europe/Rome
X-LIC-LOCATION:Europe/Rome
BEGIN:STANDARD
DTSTART;VALUE=DATE-TIME:20201025T020000
TZNAME:CET
TZOFFSETFROM:+0200
TZOFFSETTO:+0100
END:STANDARD
END:VTIMEZONE
END:VCALENDAR
