BEGIN:VCALENDAR
VERSION:2.0
PRODID:-//Plone.org//NONSGML plone.app.event//EN
X-WR-TIMEZONE:Europe/Rome
BEGIN:VEVENT
SUMMARY:"The Costs of Connection. How Data is Colonizing Life And Appropri
 ating it for Capitalism" di Nick Couldry and Ulises A. Mejias
DTSTART;TZID=Europe/Rome;VALUE=DATE-TIME:20210325T173000
DTEND;TZID=Europe/Rome;VALUE=DATE-TIME:20210325T183000
DTSTAMP;VALUE=DATE-TIME:20260421T155254Z
UID:6f5e0fbd4cc84829879427c4837adb05@dsps.unibo.it
CREATED;VALUE=DATE-TIME:20210323T095447Z
DESCRIPTION:Ciclo di seminari "Dell’utilità e il danno dell’algoritmo
  per la vita: ovvero dell’artificialità intelligente e del potere"
LAST-MODIFIED;VALUE=DATE-TIME:20210323T095944Z
URL:https://dsps.unibo.it/it/eventi/the-costs-of-connection-how-data-is-co
 lonizing-life-and-appropriating-it-for-capitalism
END:VEVENT
BEGIN:VTIMEZONE
TZID:Europe/Rome
X-LIC-LOCATION:Europe/Rome
BEGIN:STANDARD
DTSTART;VALUE=DATE-TIME:20201025T020000
TZNAME:CET
TZOFFSETFROM:+0200
TZOFFSETTO:+0100
END:STANDARD
END:VTIMEZONE
END:VCALENDAR
