BEGIN:VCALENDAR
VERSION:2.0
PRODID:-//Plone.org//NONSGML plone.app.event//EN
X-WR-TIMEZONE:Europe/Rome
BEGIN:VEVENT
SUMMARY:"The Costs of Connection: How Data Is Colonizing Human Life and Ap
 propriating It for Capitalism" di Nick Couldry\, Ulises A. Mejias
DTSTART;TZID=Europe/Rome;VALUE=DATE-TIME:20210325T170000
DTEND;TZID=Europe/Rome;VALUE=DATE-TIME:20210325T180000
DTSTAMP;VALUE=DATE-TIME:20260421T155346Z
UID:04026f48fb6b45b281746b0285ca9c00@dsps.unibo.it
CREATED;VALUE=DATE-TIME:20210223T082709Z
DESCRIPTION:Ciclo di seminari "Dell’utilità e il danno dell’algoritmo
  per la vita: ovvero dell’artificialità intelligente e del potere"
LAST-MODIFIED;VALUE=DATE-TIME:20210312T140336Z
URL:https://dsps.unibo.it/it/eventi/the-costs-of-connection-how-data-is-co
 lonizing-human-life-and-appropriating-it-for-capitalism-di-nick-couldry-ul
 ises-a-mejias
END:VEVENT
BEGIN:VTIMEZONE
TZID:Europe/Rome
X-LIC-LOCATION:Europe/Rome
BEGIN:STANDARD
DTSTART;VALUE=DATE-TIME:20201025T020000
TZNAME:CET
TZOFFSETFROM:+0200
TZOFFSETTO:+0100
END:STANDARD
END:VTIMEZONE
END:VCALENDAR
