BEGIN:VCALENDAR
VERSION:2.0
PRODID:-//Plone.org//NONSGML plone.app.event//EN
X-WR-TIMEZONE:Europe/Rome
BEGIN:VEVENT
SUMMARY:TechnoFeminist di Judy Wajcman
DTSTART;TZID=Europe/Rome;VALUE=DATE-TIME:20210128T170000
DTEND;TZID=Europe/Rome;VALUE=DATE-TIME:20210128T183000
DTSTAMP;VALUE=DATE-TIME:20260419T201529Z
UID:726a9bbc7a75494eb4e5a0dec7272ef7@dsps.unibo.it
CREATED;VALUE=DATE-TIME:20210112T095558Z
DESCRIPTION:Ciclo di seminari "Dell’utilità e il danno dell’algoritmo
  per la vita: ovvero dell’artificialità intelligente e del potere"
LAST-MODIFIED;VALUE=DATE-TIME:20210112T100220Z
URL:https://dsps.unibo.it/it/eventi/technofeminist-di-judy-wajcman
END:VEVENT
BEGIN:VTIMEZONE
TZID:Europe/Rome
X-LIC-LOCATION:Europe/Rome
BEGIN:STANDARD
DTSTART;VALUE=DATE-TIME:20201025T020000
TZNAME:CET
TZOFFSETFROM:+0200
TZOFFSETTO:+0100
END:STANDARD
END:VTIMEZONE
END:VCALENDAR
