BEGIN:VCALENDAR
VERSION:2.0
PRODID:-//Plone.org//NONSGML plone.app.event//EN
X-WR-TIMEZONE:Europe/Rome
BEGIN:VEVENT
SUMMARY:Setting roles and rules of research ethics and safety: actors and 
 framings
DTSTART;TZID=Europe/Rome;VALUE=DATE-TIME:20210217T163000
DTEND;TZID=Europe/Rome;VALUE=DATE-TIME:20210217T180000
DTSTAMP;VALUE=DATE-TIME:20260419T211352Z
UID:455a1bbc76e14c8a9130bb2d2dbab649@dsps.unibo.it
CREATED;VALUE=DATE-TIME:20210205T100342Z
DESCRIPTION:Virginie Collombier (European University Institute)\, Alia Gan
 a (CNRS)\, Alice Mattoni (Università di Bologna)\, Francesco Strazzari (S
 cuola Superiore Sant’Anna)
LAST-MODIFIED;VALUE=DATE-TIME:20210205T102315Z
URL:https://dsps.unibo.it/it/eventi/setting-roles-and-rules-of-research-et
 hics-and-safety-actors-and-framings
END:VEVENT
BEGIN:VTIMEZONE
TZID:Europe/Rome
X-LIC-LOCATION:Europe/Rome
BEGIN:STANDARD
DTSTART;VALUE=DATE-TIME:20201025T020000
TZNAME:CET
TZOFFSETFROM:+0200
TZOFFSETTO:+0100
END:STANDARD
END:VTIMEZONE
END:VCALENDAR
