BEGIN:VCALENDAR
VERSION:2.0
PRODID:-//Plone.org//NONSGML plone.app.event//EN
X-WR-TIMEZONE:Europe/Rome
BEGIN:VEVENT
SUMMARY:SeSaMO Online Doctoral Workshop 2020-2021
DTSTART;TZID=Europe/Rome;VALUE=DATE-TIME:20210420T090000
DTEND;TZID=Europe/Rome;VALUE=DATE-TIME:20210421T190000
DTSTAMP;VALUE=DATE-TIME:20260419T215248Z
UID:5eccae3b87b04cdd8a5a968a79fbcb64@dsps.unibo.it
CREATED;VALUE=DATE-TIME:20210401T074558Z
DESCRIPTION:SeSaMO (Italian Association of Middle Eastern Studies) Doctora
 l Workshop in partnership with Department of Political and Social Sciences
 - University of Bologna
LAST-MODIFIED;VALUE=DATE-TIME:20210401T095552Z
URL:https://dsps.unibo.it/it/eventi/sesamo-doctoral-workshop-2020-2021
END:VEVENT
BEGIN:VTIMEZONE
TZID:Europe/Rome
X-LIC-LOCATION:Europe/Rome
BEGIN:DAYLIGHT
DTSTART;VALUE=DATE-TIME:20210328T030000
TZNAME:CEST
TZOFFSETFROM:+0100
TZOFFSETTO:+0200
END:DAYLIGHT
END:VTIMEZONE
END:VCALENDAR
