BEGIN:VCALENDAR
VERSION:2.0
PRODID:-//Plone.org//NONSGML plone.app.event//EN
X-WR-TIMEZONE:Europe/Rome
BEGIN:VEVENT
SUMMARY:Series of guest lectures on "The Impact of the pandemic on Interna
 tional Politics: lessons\, expectations\, change”
DTSTART;VALUE=DATE:20210325
DTEND;VALUE=DATE:20210526
DTSTAMP;VALUE=DATE-TIME:20260419T190208Z
UID:c2812a66c2d845ebacdf66d888fbd0e7@dsps.unibo.it
CREATED;VALUE=DATE-TIME:20210323T114652Z
DESCRIPTION:Organized by Prof. Michela Ceccorulli and Prof. Sonia Lucarell
 i Financed by the Department of Political and Social Sciences – Forlì C
 ampus (UOS)
LAST-MODIFIED;VALUE=DATE-TIME:20210323T114846Z
URL:https://dsps.unibo.it/it/eventi/series-of-guest-lectures-on-the-impact
 -of-the-pandemic-on-international-politics-lessons-expectations-change
END:VEVENT
END:VCALENDAR
