BEGIN:VCALENDAR
VERSION:2.0
PRODID:-//Plone.org//NONSGML plone.app.event//EN
X-WR-TIMEZONE:Europe/Rome
BEGIN:VEVENT
SUMMARY:SEMINARIO: Rethinking security in post-authoritarian contexts: the
  case of Tunisia
DTSTART;TZID=Europe/Rome;VALUE=DATE-TIME:20210310T150000
DTEND;TZID=Europe/Rome;VALUE=DATE-TIME:20210310T160000
DTSTAMP;VALUE=DATE-TIME:20260419T215205Z
UID:4347e22074214788bab54bfc96d07906@dsps.unibo.it
CREATED;VALUE=DATE-TIME:20210304T100714Z
DESCRIPTION:Post-doc webinar series
LAST-MODIFIED;VALUE=DATE-TIME:20210304T122734Z
URL:https://dsps.unibo.it/it/eventi/seminario
END:VEVENT
BEGIN:VTIMEZONE
TZID:Europe/Rome
X-LIC-LOCATION:Europe/Rome
BEGIN:STANDARD
DTSTART;VALUE=DATE-TIME:20201025T020000
TZNAME:CET
TZOFFSETFROM:+0200
TZOFFSETTO:+0100
END:STANDARD
END:VTIMEZONE
END:VCALENDAR
