BEGIN:VCALENDAR
VERSION:2.0
PRODID:-//Plone.org//NONSGML plone.app.event//EN
X-WR-TIMEZONE:Europe/Rome
BEGIN:VEVENT
SUMMARY:Seminario "The Libyan War in Retrospect: Did the West choose the r
 ight side?"
DTSTART;TZID=Europe/Rome;VALUE=DATE-TIME:20191213T100000
DTEND;TZID=Europe/Rome;VALUE=DATE-TIME:20191213T113000
DTSTAMP;VALUE=DATE-TIME:20260419T160413Z
UID:b5b2eff3ec9841f5b2e9820a82fa9fff@dsps.unibo.it
CREATED;VALUE=DATE-TIME:20191206T140627Z
LAST-MODIFIED;VALUE=DATE-TIME:20191206T140722Z
URL:https://dsps.unibo.it/it/eventi/seminario-the-libyan-war-in-retrospect
 -did-the-west-choose-the-right-side
END:VEVENT
BEGIN:VTIMEZONE
TZID:Europe/Rome
X-LIC-LOCATION:Europe/Rome
BEGIN:STANDARD
DTSTART;VALUE=DATE-TIME:20191027T020000
TZNAME:CET
TZOFFSETFROM:+0200
TZOFFSETTO:+0100
END:STANDARD
END:VTIMEZONE
END:VCALENDAR
