BEGIN:VCALENDAR
VERSION:2.0
PRODID:-//Plone.org//NONSGML plone.app.event//EN
X-WR-TIMEZONE:Europe/Rome
BEGIN:VEVENT
SUMMARY:Seminario: Prime riflessioni sui profili di responsabilità degli 
 automated vehicles
DTSTART;TZID=Europe/Rome;VALUE=DATE-TIME:20210303T120000
DTEND;TZID=Europe/Rome;VALUE=DATE-TIME:20210303T130000
DTSTAMP;VALUE=DATE-TIME:20260419T221010Z
UID:bc5b5987a4934f17a378761626b91844@dsps.unibo.it
CREATED;VALUE=DATE-TIME:20210301T092646Z
DESCRIPTION:Post-docs Webinar Series
LAST-MODIFIED;VALUE=DATE-TIME:20210301T130045Z
URL:https://dsps.unibo.it/it/eventi/seminario-prime-riflessioni-sui-profil
 i-di-responsabilita-degli-automated-vehicles
END:VEVENT
BEGIN:VTIMEZONE
TZID:Europe/Rome
X-LIC-LOCATION:Europe/Rome
BEGIN:STANDARD
DTSTART;VALUE=DATE-TIME:20201025T020000
TZNAME:CET
TZOFFSETFROM:+0200
TZOFFSETTO:+0100
END:STANDARD
END:VTIMEZONE
END:VCALENDAR
