BEGIN:VCALENDAR
VERSION:2.0
PRODID:-//Plone.org//NONSGML plone.app.event//EN
X-WR-TIMEZONE:Europe/Rome
BEGIN:VEVENT
SUMMARY:Seminario: Open Borders: Pros and Cons
DTSTART;TZID=Europe/Rome;VALUE=DATE-TIME:20210330T110000
DTEND;TZID=Europe/Rome;VALUE=DATE-TIME:20210330T120000
DTSTAMP;VALUE=DATE-TIME:20260422T002603Z
UID:1278a42ff9b74944bdcef23e13e574fb@dsps.unibo.it
CREATED;VALUE=DATE-TIME:20210305T112049Z
DESCRIPTION:Seminario organizzato nell'ambito del Corso di Dottorato in Sc
 ienze Politiche e Sociali.
LAST-MODIFIED;VALUE=DATE-TIME:20210308T133952Z
URL:https://dsps.unibo.it/it/eventi/seminario-open-borders-pros-and-cons
END:VEVENT
BEGIN:VTIMEZONE
TZID:Europe/Rome
X-LIC-LOCATION:Europe/Rome
BEGIN:DAYLIGHT
DTSTART;VALUE=DATE-TIME:20210328T030000
TZNAME:CEST
TZOFFSETFROM:+0100
TZOFFSETTO:+0200
END:DAYLIGHT
END:VTIMEZONE
END:VCALENDAR
