BEGIN:VCALENDAR
VERSION:2.0
PRODID:-//Plone.org//NONSGML plone.app.event//EN
X-WR-TIMEZONE:Europe/Rome
BEGIN:VEVENT
SUMMARY:Webinar "Migranti Ambientali: alla Ricerca di Strumenti di Protezi
 one"
DTSTART;TZID=Europe/Rome;VALUE=DATE-TIME:20210224T113000
DTEND;TZID=Europe/Rome;VALUE=DATE-TIME:20210224T123000
DTSTAMP;VALUE=DATE-TIME:20260419T233041Z
UID:c6c486ecec94444c8a70c8bad2ec1934@dsps.unibo.it
CREATED;VALUE=DATE-TIME:20210216T141540Z
DESCRIPTION:Post-Docs webinar series
LAST-MODIFIED;VALUE=DATE-TIME:20210217T100645Z
URL:https://dsps.unibo.it/it/eventi/seminario-migranti-ambientali-alla-ric
 erca-di-strumenti-di-protezione
END:VEVENT
BEGIN:VTIMEZONE
TZID:Europe/Rome
X-LIC-LOCATION:Europe/Rome
BEGIN:STANDARD
DTSTART;VALUE=DATE-TIME:20201025T020000
TZNAME:CET
TZOFFSETFROM:+0200
TZOFFSETTO:+0100
END:STANDARD
END:VTIMEZONE
END:VCALENDAR
