BEGIN:VCALENDAR
VERSION:2.0
PRODID:-//Plone.org//NONSGML plone.app.event//EN
X-WR-TIMEZONE:Europe/Rome
BEGIN:VEVENT
SUMMARY:Seminario "Lingua e identità: monolinguismo e plurilinguismo nell
 o spazio politico della Russia"
DTSTART;TZID=Europe/Rome;VALUE=DATE-TIME:20191210T153000
DTEND;TZID=Europe/Rome;VALUE=DATE-TIME:20191210T170000
DTSTAMP;VALUE=DATE-TIME:20260421T125816Z
UID:f5a8b8caa3534571a7349fa65d7af82d@dsps.unibo.it
CREATED;VALUE=DATE-TIME:20191206T142117Z
LAST-MODIFIED;VALUE=DATE-TIME:20191206T142432Z
URL:https://dsps.unibo.it/it/eventi/seminario-lingua-e-identita-monolingui
 smo-e-plurilinguismo-nello-spazio-politico-della-russia
END:VEVENT
BEGIN:VTIMEZONE
TZID:Europe/Rome
X-LIC-LOCATION:Europe/Rome
BEGIN:STANDARD
DTSTART;VALUE=DATE-TIME:20191027T020000
TZNAME:CET
TZOFFSETFROM:+0200
TZOFFSETTO:+0100
END:STANDARD
END:VTIMEZONE
END:VCALENDAR
