BEGIN:VCALENDAR
VERSION:2.0
PRODID:-//Plone.org//NONSGML plone.app.event//EN
X-WR-TIMEZONE:Europe/Rome
BEGIN:VEVENT
SUMMARY:Seminario: Le Regioni attori nel processo di integrazione europea
DTSTART;TZID=Europe/Rome;VALUE=DATE-TIME:20210426T100000
DTEND;TZID=Europe/Rome;VALUE=DATE-TIME:20210426T130000
DTSTAMP;VALUE=DATE-TIME:20260419T223630Z
UID:3a46c2e35f374b25a76cf9d75bb1a9cc@dsps.unibo.it
CREATED;VALUE=DATE-TIME:20210329T110514Z
DESCRIPTION:Lunedì 26 Aprile 2021 su Piattaforma Cisco Webex
LAST-MODIFIED;VALUE=DATE-TIME:20210329T110955Z
URL:https://dsps.unibo.it/it/eventi/seminario-le-regioni-attori-nel-proces
 so-di-integrazione-europea
END:VEVENT
BEGIN:VTIMEZONE
TZID:Europe/Rome
X-LIC-LOCATION:Europe/Rome
BEGIN:DAYLIGHT
DTSTART;VALUE=DATE-TIME:20210328T030000
TZNAME:CEST
TZOFFSETFROM:+0100
TZOFFSETTO:+0200
END:DAYLIGHT
END:VTIMEZONE
END:VCALENDAR
