BEGIN:VCALENDAR
VERSION:2.0
PRODID:-//Plone.org//NONSGML plone.app.event//EN
X-WR-TIMEZONE:Europe/Rome
BEGIN:VEVENT
SUMMARY:SEMINARIO: Le forme del falso
DTSTART;VALUE=DATE:20210325
DTEND;VALUE=DATE:20210327
DTSTAMP;VALUE=DATE-TIME:20260421T192153Z
UID:1c6032f3fda247e7834f01c8350c7409@dsps.unibo.it
CREATED;VALUE=DATE-TIME:20210323T135022Z
DESCRIPTION:Due giornate di seminario organizzate dall' ISTITUTO STUDI AVA
 NZATI - Università di Bologna
LAST-MODIFIED;VALUE=DATE-TIME:20210323T135632Z
URL:https://dsps.unibo.it/it/eventi/seminario-le-forme-del-falso
END:VEVENT
END:VCALENDAR
