BEGIN:VCALENDAR
VERSION:2.0
PRODID:-//Plone.org//NONSGML plone.app.event//EN
X-WR-TIMEZONE:Europe/Rome
BEGIN:VEVENT
SUMMARY:Seminario "Lavori in corso"
DTSTART;TZID=Europe/Rome;VALUE=DATE-TIME:20160126T160000
DTEND;TZID=Europe/Rome;VALUE=DATE-TIME:20160126T180000
DTSTAMP;VALUE=DATE-TIME:20260423T215235Z
UID:e92a96faf56e4e88996b0303a7533285@dsps.unibo.it
CREATED;VALUE=DATE-TIME:20160115T091137Z
DESCRIPTION:Presentazione libro: " Processo e legge penale nella seconda R
 epubblica. Riflessioni sulla giustizia da tangentopoli alla fine del berlu
 sconismo "
LAST-MODIFIED;VALUE=DATE-TIME:20160115T092930Z
URL:https://dsps.unibo.it/it/eventi/seminario-lavori-in-corso
END:VEVENT
BEGIN:VTIMEZONE
TZID:Europe/Rome
X-LIC-LOCATION:Europe/Rome
BEGIN:STANDARD
DTSTART;VALUE=DATE-TIME:20151025T020000
TZNAME:CET
TZOFFSETFROM:+0200
TZOFFSETTO:+0100
END:STANDARD
END:VTIMEZONE
END:VCALENDAR
